BEGIN:VCALENDAR
VERSION:2.0
PRODID:-//pretix//pretix.eu//
BEGIN:VTIMEZONE
TZID:Europe/Berlin
BEGIN:STANDARD
DTSTART:20001029T040000
RRULE:FREQ=YEARLY;BYDAY=-1SU;BYMONTH=10
TZNAME:CET
TZOFFSETFROM:+0200
TZOFFSETTO:+0100
END:STANDARD
BEGIN:DAYLIGHT
DTSTART:20000326T030000
RRULE:FREQ=YEARLY;BYDAY=-1SU;BYMONTH=3
TZNAME:CEST
TZOFFSETFROM:+0100
TZOFFSETTO:+0200
END:DAYLIGHT
END:VTIMEZONE
BEGIN:VEVENT
UID:pretix-sdzmediengruppe-wahlforum-ltw-gmuend-0@tickets.sdz-medien.de
DTSTART;TZID=Europe/Berlin:20260129T190000
DTEND;TZID=Europe/Berlin:20260129T203000
DESCRIPTION:Tickets: https://tickets.sdz-medien.de/wahlforum-ltw-gmuend/\nE
 inlass: 29.01.2026 18:00\nVeranstalter: SDZ Druck und Medien GmbH
DTSTAMP:20260423T220420Z
LOCATION:Villa Hirzel\, Remspark 2\, 73525 Schwäbisch Gmünd
SUMMARY:Das Wahlforum der Gmünder Tagespost
END:VEVENT
END:VCALENDAR
